Package: PAIRADISE Version: 1.16.0 Command: /home/biocbuild/bbs-3.17-bioc/R/bin/R CMD check --install=check:PAIRADISE.install-out.txt --library=/home/biocbuild/bbs-3.17-bioc/R/site-library --timings PAIRADISE_1.16.0.tar.gz StartedAt: 2023-10-15 23:35:20 -0400 (Sun, 15 Oct 2023) EndedAt: 2023-10-15 23:42:43 -0400 (Sun, 15 Oct 2023) EllapsedTime: 443.1 seconds RetCode: 0 Status: OK CheckDir: PAIRADISE.Rcheck Warnings: 0