Package: PAIRADISE Version: 1.16.0 Command: /home/biocbuild/bbs-3.17-bioc/R/bin/R CMD build --keep-empty-dirs --no-resave-data PAIRADISE StartedAt: 2023-10-15 17:50:15 -0400 (Sun, 15 Oct 2023) EndedAt: 2023-10-15 17:51:30 -0400 (Sun, 15 Oct 2023) EllapsedTime: 75.0 seconds RetCode: 0 Status: OK PackageFile: PAIRADISE_1.16.0.tar.gz PackageFileSize: 320.7 KiB