Package: PADOG Version: 1.42.0 Command: F:\biocbuild\bbs-3.17-bioc\R\bin\R.exe CMD INSTALL PADOG StartedAt: 2023-10-15 16:14:17 -0400 (Sun, 15 Oct 2023) EndedAt: 2023-10-15 16:14:35 -0400 (Sun, 15 Oct 2023) EllapsedTime: 18.2 seconds RetCode: 0 Status: OK