Package: PADOG Version: 1.42.0 Command: /Library/Frameworks/R.framework/Resources/bin/R CMD check --install=check:PADOG.install-out.txt --library=/Library/Frameworks/R.framework/Resources/library --no-vignettes --timings PADOG_1.42.0.tar.gz StartedAt: 2023-10-16 04:58:57 -0400 (Mon, 16 Oct 2023) EndedAt: 2023-10-16 05:07:56 -0400 (Mon, 16 Oct 2023) EllapsedTime: 538.1 seconds RetCode: 0 Status: OK CheckDir: PADOG.Rcheck Warnings: 0