Package: PADOG Version: 1.42.0 Command: /Library/Frameworks/R.framework/Resources/bin/R CMD build --keep-empty-dirs --no-resave-data PADOG StartedAt: 2023-10-15 20:04:58 -0400 (Sun, 15 Oct 2023) EndedAt: 2023-10-15 20:11:38 -0400 (Sun, 15 Oct 2023) EllapsedTime: 399.6 seconds RetCode: 0 Status: OK PackageFile: PADOG_1.42.0.tar.gz PackageFileSize: 368.4 KiB