Package: PADOG Version: 1.42.0 Command: rm -rf PADOG.buildbin-libdir && mkdir PADOG.buildbin-libdir && /Users/biocbuild/BBS/utils/build-universal.sh PADOG_1.42.0.tar.gz /Library/Frameworks/R.framework/Resources/bin/R PADOG.buildbin-libdir StartedAt: 2023-10-16 09:53:20 -0400 (Mon, 16 Oct 2023) EndedAt: 2023-10-16 09:54:18 -0400 (Mon, 16 Oct 2023) EllapsedTime: 57.2 seconds RetCode: 0 Status: OK PackageFile: PADOG_1.42.0.tgz PackageFileSize: 398.3 KiB