Package: PAA Version: 1.34.0 Command: /home/biocbuild/bbs-3.17-bioc/R/bin/R CMD build --keep-empty-dirs --no-resave-data PAA StartedAt: 2023-10-15 17:49:19 -0400 (Sun, 15 Oct 2023) EndedAt: 2023-10-15 17:53:32 -0400 (Sun, 15 Oct 2023) EllapsedTime: 253.4 seconds RetCode: 0 Status: OK PackageFile: PAA_1.34.0.tar.gz PackageFileSize: 3.901 MiB