Package: PAA Version: 1.34.0 Command: /Library/Frameworks/R.framework/Resources/bin/R CMD check --install=check:PAA.install-out.txt --library=/Library/Frameworks/R.framework/Resources/library --no-vignettes --timings PAA_1.34.0.tar.gz StartedAt: 2023-10-16 04:57:15 -0400 (Mon, 16 Oct 2023) EndedAt: 2023-10-16 05:06:27 -0400 (Mon, 16 Oct 2023) EllapsedTime: 551.5 seconds RetCode: 0 Status: OK CheckDir: PAA.Rcheck Warnings: 0