Package: PAA Version: 1.34.0 Command: /Library/Frameworks/R.framework/Resources/bin/R CMD build --keep-empty-dirs --no-resave-data PAA StartedAt: 2023-10-15 20:04:35 -0400 (Sun, 15 Oct 2023) EndedAt: 2023-10-15 20:12:35 -0400 (Sun, 15 Oct 2023) EllapsedTime: 479.3 seconds RetCode: 0 Status: OK PackageFile: PAA_1.34.0.tar.gz PackageFileSize: 3.996 MiB