Package: PAA Version: 1.34.0 Command: rm -rf PAA.buildbin-libdir && mkdir PAA.buildbin-libdir && /Users/biocbuild/BBS/utils/build-universal.sh PAA_1.34.0.tar.gz /Library/Frameworks/R.framework/Resources/bin/R PAA.buildbin-libdir StartedAt: 2023-10-16 09:53:11 -0400 (Mon, 16 Oct 2023) EndedAt: 2023-10-16 09:55:58 -0400 (Mon, 16 Oct 2023) EllapsedTime: 166.7 seconds RetCode: 0 Status: OK PackageFile: PAA_1.34.0.tgz PackageFileSize: 4.236 MiB