Package: OutSplice Version: 1.0.1 Command: rm -rf OutSplice.buildbin-libdir && mkdir OutSplice.buildbin-libdir && F:\biocbuild\bbs-3.17-bioc\R\bin\R.exe CMD INSTALL --build --library=OutSplice.buildbin-libdir OutSplice_1.0.1.tar.gz StartedAt: 2023-10-16 09:13:38 -0400 (Mon, 16 Oct 2023) EndedAt: 2023-10-16 09:14:29 -0400 (Mon, 16 Oct 2023) EllapsedTime: 51.5 seconds RetCode: 0 Status: OK PackageFile: OutSplice_1.0.1.zip PackageFileSize: 3.907 MiB