Package: OutSplice Version: 1.0.1 Command: /home/biocbuild/bbs-3.17-bioc/R/bin/R CMD INSTALL OutSplice StartedAt: 2023-10-15 15:40:25 -0400 (Sun, 15 Oct 2023) EndedAt: 2023-10-15 15:41:10 -0400 (Sun, 15 Oct 2023) EllapsedTime: 44.7 seconds RetCode: 0 Status: OK