Package: OutSplice Version: 1.0.1 Command: /home/biocbuild/bbs-3.17-bioc/R/bin/R CMD check --install=check:OutSplice.install-out.txt --library=/home/biocbuild/bbs-3.17-bioc/R/site-library --timings OutSplice_1.0.1.tar.gz StartedAt: 2023-10-15 23:32:47 -0400 (Sun, 15 Oct 2023) EndedAt: 2023-10-15 23:47:01 -0400 (Sun, 15 Oct 2023) EllapsedTime: 854.4 seconds RetCode: 0 Status: OK CheckDir: OutSplice.Rcheck Warnings: 0