Package: OutSplice Version: 1.0.1 Command: /Library/Frameworks/R.framework/Resources/bin/R CMD INSTALL OutSplice StartedAt: 2023-10-15 16:13:29 -0400 (Sun, 15 Oct 2023) EndedAt: 2023-10-15 16:15:47 -0400 (Sun, 15 Oct 2023) EllapsedTime: 137.7 seconds RetCode: 0 Status: OK