Package: OutSplice Version: 1.0.1 Command: /Library/Frameworks/R.framework/Resources/bin/R CMD build --keep-empty-dirs --no-resave-data OutSplice StartedAt: 2023-10-15 20:04:29 -0400 (Sun, 15 Oct 2023) EndedAt: 2023-10-15 20:10:47 -0400 (Sun, 15 Oct 2023) EllapsedTime: 378.0 seconds RetCode: 0 Status: OK PackageFile: OutSplice_1.0.1.tar.gz PackageFileSize: 3.863 MiB