Package: Oscope Version: 1.30.0 Command: F:\biocbuild\bbs-3.17-bioc\R\bin\R.exe CMD check --no-multiarch --install=check:Oscope.install-out.txt --library=F:\biocbuild\bbs-3.17-bioc\R\library --no-vignettes --timings Oscope_1.30.0.tar.gz StartedAt: 2023-10-16 05:02:30 -0400 (Mon, 16 Oct 2023) EndedAt: 2023-10-16 05:03:48 -0400 (Mon, 16 Oct 2023) EllapsedTime: 78.0 seconds RetCode: 0 Status: OK CheckDir: Oscope.Rcheck Warnings: 0