Package: Oscope Version: 1.30.0 Command: /home/biocbuild/bbs-3.17-bioc/R/bin/R CMD INSTALL Oscope StartedAt: 2023-10-15 15:32:49 -0400 (Sun, 15 Oct 2023) EndedAt: 2023-10-15 15:32:55 -0400 (Sun, 15 Oct 2023) EllapsedTime: 6.2 seconds RetCode: 0 Status: OK