Package: Oscope Version: 1.30.0 Command: /home/biocbuild/bbs-3.17-bioc/R/bin/R CMD build --keep-empty-dirs --no-resave-data Oscope StartedAt: 2023-10-15 17:48:29 -0400 (Sun, 15 Oct 2023) EndedAt: 2023-10-15 17:52:36 -0400 (Sun, 15 Oct 2023) EllapsedTime: 246.6 seconds RetCode: 0 Status: OK PackageFile: Oscope_1.30.0.tar.gz PackageFileSize: 1.16 MiB