Package: Oscope Version: 1.30.0 Command: /Library/Frameworks/R.framework/Resources/bin/R CMD check --install=check:Oscope.install-out.txt --library=/Library/Frameworks/R.framework/Resources/library --no-vignettes --timings Oscope_1.30.0.tar.gz StartedAt: 2023-10-16 04:56:19 -0400 (Mon, 16 Oct 2023) EndedAt: 2023-10-16 04:59:45 -0400 (Mon, 16 Oct 2023) EllapsedTime: 206.5 seconds RetCode: 0 Status: OK CheckDir: Oscope.Rcheck Warnings: 0