Package: OrganismDbi Version: 1.42.0 Command: F:\biocbuild\bbs-3.17-bioc\R\bin\R.exe CMD check --no-multiarch --install=check:OrganismDbi.install-out.txt --library=F:\biocbuild\bbs-3.17-bioc\R\library --no-vignettes --timings OrganismDbi_1.42.0.tar.gz StartedAt: 2023-10-16 05:01:24 -0400 (Mon, 16 Oct 2023) EndedAt: 2023-10-16 05:14:27 -0400 (Mon, 16 Oct 2023) EllapsedTime: 783.9 seconds RetCode: 0 Status: WARNINGS CheckDir: OrganismDbi.Rcheck Warnings: 1