Package: OrganismDbi Version: 1.42.0 Command: rm -rf OrganismDbi.buildbin-libdir && mkdir OrganismDbi.buildbin-libdir && F:\biocbuild\bbs-3.17-bioc\R\bin\R.exe CMD INSTALL --build --library=OrganismDbi.buildbin-libdir OrganismDbi_1.42.0.tar.gz StartedAt: 2023-10-16 09:13:24 -0400 (Mon, 16 Oct 2023) EndedAt: 2023-10-16 09:14:13 -0400 (Mon, 16 Oct 2023) EllapsedTime: 48.8 seconds RetCode: 0 Status: OK PackageFile: OrganismDbi_1.42.0.zip PackageFileSize: 785.4 KiB