Package: OrganismDbi Version: 1.42.0 Command: /home/biocbuild/bbs-3.17-bioc/R/bin/R CMD INSTALL OrganismDbi StartedAt: 2023-10-15 15:22:16 -0400 (Sun, 15 Oct 2023) EndedAt: 2023-10-15 15:22:55 -0400 (Sun, 15 Oct 2023) EllapsedTime: 38.7 seconds RetCode: 0 Status: OK