Package: OrganismDbi Version: 1.42.0 Command: /home/biocbuild/bbs-3.17-bioc/R/bin/R CMD check --install=check:OrganismDbi.install-out.txt --library=/home/biocbuild/bbs-3.17-bioc/R/site-library --timings OrganismDbi_1.42.0.tar.gz StartedAt: 2023-10-15 23:30:34 -0400 (Sun, 15 Oct 2023) EndedAt: 2023-10-15 23:48:19 -0400 (Sun, 15 Oct 2023) EllapsedTime: 1064.9 seconds RetCode: 0 Status: WARNINGS CheckDir: OrganismDbi.Rcheck Warnings: 1