Package: OrganismDbi Version: 1.42.0 Command: /home/biocbuild/bbs-3.17-bioc/R/bin/R CMD build --keep-empty-dirs --no-resave-data OrganismDbi StartedAt: 2023-10-15 17:47:39 -0400 (Sun, 15 Oct 2023) EndedAt: 2023-10-15 17:49:35 -0400 (Sun, 15 Oct 2023) EllapsedTime: 116.0 seconds RetCode: 0 Status: OK PackageFile: OrganismDbi_1.42.0.tar.gz PackageFileSize: 387.3 KiB