Package: OrganismDbi Version: 1.42.0 Command: /Library/Frameworks/R.framework/Resources/bin/R CMD check --install=check:OrganismDbi.install-out.txt --library=/Library/Frameworks/R.framework/Resources/library --no-vignettes --timings OrganismDbi_1.42.0.tar.gz StartedAt: 2023-10-16 04:55:16 -0400 (Mon, 16 Oct 2023) EndedAt: 2023-10-16 05:17:00 -0400 (Mon, 16 Oct 2023) EllapsedTime: 1304.2 seconds RetCode: 0 Status: WARNINGS CheckDir: OrganismDbi.Rcheck Warnings: 1