Package: OrganismDbi Version: 1.42.0 Command: /Library/Frameworks/R.framework/Resources/bin/R CMD build --keep-empty-dirs --no-resave-data OrganismDbi StartedAt: 2023-10-15 20:03:18 -0400 (Sun, 15 Oct 2023) EndedAt: 2023-10-15 20:06:08 -0400 (Sun, 15 Oct 2023) EllapsedTime: 170.6 seconds RetCode: 0 Status: OK PackageFile: OrganismDbi_1.42.0.tar.gz PackageFileSize: 387.3 KiB