Package: Organism.dplyr Version: 1.28.0 Command: rm -rf Organism.dplyr.buildbin-libdir && mkdir Organism.dplyr.buildbin-libdir && /Users/biocbuild/BBS/utils/build-universal.sh Organism.dplyr_1.28.0.tar.gz /Library/Frameworks/R.framework/Resources/bin/R Organism.dplyr.buildbin-libdir StartedAt: 2023-10-16 09:52:53 -0400 (Mon, 16 Oct 2023) EndedAt: 2023-10-16 09:55:07 -0400 (Mon, 16 Oct 2023) EllapsedTime: 133.7 seconds RetCode: 0 Status: OK PackageFile: Organism.dplyr_1.28.0.tgz PackageFileSize: 881.3 KiB