Package: OrderedList Version: 1.72.0 Command: chmod a+r OrderedList -R && F:\biocbuild\bbs-3.17-bioc\R\bin\R.exe CMD build --keep-empty-dirs --no-resave-data OrderedList StartedAt: 2023-10-15 21:04:38 -0400 (Sun, 15 Oct 2023) EndedAt: 2023-10-15 21:06:28 -0400 (Sun, 15 Oct 2023) EllapsedTime: 109.5 seconds RetCode: 0 Status: OK PackageFile: OrderedList_1.72.0.tar.gz PackageFileSize: 814.6 KiB