Package: OrderedList Version: 1.72.0 Command: rm -rf OrderedList.buildbin-libdir && mkdir OrderedList.buildbin-libdir && /Users/biocbuild/BBS/utils/build-universal.sh OrderedList_1.72.0.tar.gz /Library/Frameworks/R.framework/Resources/bin/R OrderedList.buildbin-libdir StartedAt: 2023-10-16 09:52:42 -0400 (Mon, 16 Oct 2023) EndedAt: 2023-10-16 09:52:57 -0400 (Mon, 16 Oct 2023) EllapsedTime: 14.6 seconds RetCode: 0 Status: OK PackageFile: OrderedList_1.72.0.tgz PackageFileSize: 1.11 MiB