Package: OpenStats Version: 1.12.0 Command: F:\biocbuild\bbs-3.17-bioc\R\bin\R.exe CMD check --no-multiarch --install=check:OpenStats.install-out.txt --library=F:\biocbuild\bbs-3.17-bioc\R\library --no-vignettes --timings OpenStats_1.12.0.tar.gz StartedAt: 2023-10-16 04:58:42 -0400 (Mon, 16 Oct 2023) EndedAt: 2023-10-16 05:00:23 -0400 (Mon, 16 Oct 2023) EllapsedTime: 100.8 seconds RetCode: 0 Status: OK CheckDir: OpenStats.Rcheck Warnings: 0