Package: OpenStats Version: 1.12.0 Command: chmod a+r OpenStats -R && F:\biocbuild\bbs-3.17-bioc\R\bin\R.exe CMD build --keep-empty-dirs --no-resave-data OpenStats StartedAt: 2023-10-15 21:02:35 -0400 (Sun, 15 Oct 2023) EndedAt: 2023-10-15 21:03:21 -0400 (Sun, 15 Oct 2023) EllapsedTime: 46.0 seconds RetCode: 0 Status: OK PackageFile: OpenStats_1.12.0.tar.gz PackageFileSize: 369 KiB