Package: OpenStats Version: 1.12.0 Command: rm -rf OpenStats.buildbin-libdir && mkdir OpenStats.buildbin-libdir && F:\biocbuild\bbs-3.17-bioc\R\bin\R.exe CMD INSTALL --build --library=OpenStats.buildbin-libdir OpenStats_1.12.0.tar.gz StartedAt: 2023-10-16 09:13:04 -0400 (Mon, 16 Oct 2023) EndedAt: 2023-10-16 09:13:28 -0400 (Mon, 16 Oct 2023) EllapsedTime: 23.4 seconds RetCode: 0 Status: OK PackageFile: OpenStats_1.12.0.zip PackageFileSize: 685.2 KiB