Package: OpenStats Version: 1.12.0 Command: /home/biocbuild/bbs-3.17-bioc/R/bin/R CMD INSTALL OpenStats StartedAt: 2023-10-15 15:37:05 -0400 (Sun, 15 Oct 2023) EndedAt: 2023-10-15 15:37:19 -0400 (Sun, 15 Oct 2023) EllapsedTime: 14.5 seconds RetCode: 0 Status: OK