Package: OpenStats Version: 1.12.0 Command: /home/biocbuild/bbs-3.17-bioc/R/bin/R CMD check --install=check:OpenStats.install-out.txt --library=/home/biocbuild/bbs-3.17-bioc/R/site-library --timings OpenStats_1.12.0.tar.gz StartedAt: 2023-10-15 23:28:07 -0400 (Sun, 15 Oct 2023) EndedAt: 2023-10-15 23:30:13 -0400 (Sun, 15 Oct 2023) EllapsedTime: 126.0 seconds RetCode: 0 Status: OK CheckDir: OpenStats.Rcheck Warnings: 0