Package: OpenStats Version: 1.12.0 Command: /home/biocbuild/bbs-3.17-bioc/R/bin/R CMD build --keep-empty-dirs --no-resave-data OpenStats StartedAt: 2023-10-15 17:46:20 -0400 (Sun, 15 Oct 2023) EndedAt: 2023-10-15 17:46:51 -0400 (Sun, 15 Oct 2023) EllapsedTime: 31.7 seconds RetCode: 0 Status: OK PackageFile: OpenStats_1.12.0.tar.gz PackageFileSize: 514.4 KiB