Package: OpenStats Version: 1.12.0 Command: /Library/Frameworks/R.framework/Resources/bin/R CMD build --keep-empty-dirs --no-resave-data OpenStats StartedAt: 2023-10-15 20:01:44 -0400 (Sun, 15 Oct 2023) EndedAt: 2023-10-15 20:02:44 -0400 (Sun, 15 Oct 2023) EllapsedTime: 60.3 seconds RetCode: 0 Status: OK PackageFile: OpenStats_1.12.0.tar.gz PackageFileSize: 526.1 KiB