Package: OpenStats Version: 1.12.0 Command: rm -rf OpenStats.buildbin-libdir && mkdir OpenStats.buildbin-libdir && /Users/biocbuild/BBS/utils/build-universal.sh OpenStats_1.12.0.tar.gz /Library/Frameworks/R.framework/Resources/bin/R OpenStats.buildbin-libdir StartedAt: 2023-10-16 09:52:28 -0400 (Mon, 16 Oct 2023) EndedAt: 2023-10-16 09:53:23 -0400 (Mon, 16 Oct 2023) EllapsedTime: 55.9 seconds RetCode: 0 Status: OK PackageFile: OpenStats_1.12.0.tgz PackageFileSize: 843.6 KiB