Package: OncoSimulR Version: 4.2.0 Command: chmod a+r OncoSimulR -R && F:\biocbuild\bbs-3.17-bioc\R\bin\R.exe CMD build --keep-empty-dirs --no-resave-data OncoSimulR StartedAt: 2023-10-15 21:00:08 -0400 (Sun, 15 Oct 2023) EndedAt: 2023-10-15 21:17:05 -0400 (Sun, 15 Oct 2023) EllapsedTime: 1017.3 seconds RetCode: 0 Status: OK PackageFile: OncoSimulR_4.2.0.tar.gz PackageFileSize: 3.446 MiB