Package: OncoSimulR Version: 4.2.0 Command: /Library/Frameworks/R.framework/Resources/bin/R CMD INSTALL OncoSimulR StartedAt: 2023-10-15 16:00:01 -0400 (Sun, 15 Oct 2023) EndedAt: 2023-10-15 16:07:06 -0400 (Sun, 15 Oct 2023) EllapsedTime: 425.4 seconds RetCode: 0 Status: OK