Package: OncoSimulR Version: 4.2.0 Command: /Library/Frameworks/R.framework/Resources/bin/R CMD check --install=check:OncoSimulR.install-out.txt --library=/Library/Frameworks/R.framework/Resources/library --no-vignettes --timings OncoSimulR_4.2.0.tar.gz StartedAt: 2023-10-16 04:51:08 -0400 (Mon, 16 Oct 2023) EndedAt: 2023-10-16 05:08:49 -0400 (Mon, 16 Oct 2023) EllapsedTime: 1061.5 seconds RetCode: 0 Status: OK CheckDir: OncoSimulR.Rcheck Warnings: 0