Package: OncoSimulR Version: 4.2.0 Command: /Library/Frameworks/R.framework/Resources/bin/R CMD build --keep-empty-dirs --no-resave-data OncoSimulR StartedAt: 2023-10-15 20:00:34 -0400 (Sun, 15 Oct 2023) EndedAt: 2023-10-15 20:15:06 -0400 (Sun, 15 Oct 2023) EllapsedTime: 872.7 seconds RetCode: 0 Status: OK PackageFile: OncoSimulR_4.2.0.tar.gz PackageFileSize: 7.308 MiB