Package: Omixer Version: 1.10.0 Command: /Library/Frameworks/R.framework/Resources/bin/R CMD check --install=check:Omixer.install-out.txt --library=/Library/Frameworks/R.framework/Resources/library --no-vignettes --timings Omixer_1.10.0.tar.gz StartedAt: 2023-10-16 04:48:04 -0400 (Mon, 16 Oct 2023) EndedAt: 2023-10-16 04:49:32 -0400 (Mon, 16 Oct 2023) EllapsedTime: 87.9 seconds RetCode: 0 Status: OK CheckDir: Omixer.Rcheck Warnings: 0