Package: Omixer Version: 1.10.0 Command: rm -rf Omixer.buildbin-libdir && mkdir Omixer.buildbin-libdir && /Users/biocbuild/BBS/utils/build-universal.sh Omixer_1.10.0.tar.gz /Library/Frameworks/R.framework/Resources/bin/R Omixer.buildbin-libdir StartedAt: 2023-10-16 09:51:35 -0400 (Mon, 16 Oct 2023) EndedAt: 2023-10-16 09:51:52 -0400 (Mon, 16 Oct 2023) EllapsedTime: 16.6 seconds RetCode: 0 Status: OK PackageFile: Omixer_1.10.0.tgz PackageFileSize: 1.053 MiB