Package: OmicsLonDA Version: 1.16.0 Command: F:\biocbuild\bbs-3.17-bioc\R\bin\R.exe CMD INSTALL OmicsLonDA StartedAt: 2023-10-15 16:05:21 -0400 (Sun, 15 Oct 2023) EndedAt: 2023-10-15 16:05:43 -0400 (Sun, 15 Oct 2023) EllapsedTime: 21.9 seconds RetCode: 1 Status: ERROR