Package: OmicsLonDA Version: 1.15.0 Command: F:\biocbuild\bbs-3.17-bioc\R\bin\R.exe CMD check --no-multiarch --install=check:OmicsLonDA.install-out.txt --library=F:\biocbuild\bbs-3.17-bioc\R\library --no-vignettes --timings OmicsLonDA_1.15.0.tar.gz StartedAt: 2023-03-28 04:32:35 -0400 (Tue, 28 Mar 2023) EndedAt: 2023-03-28 04:36:19 -0400 (Tue, 28 Mar 2023) EllapsedTime: 224.5 seconds RetCode: 0 Status: OK CheckDir: OmicsLonDA.Rcheck Warnings: 0