Package: OmicsLonDA Version: 1.16.0 Command: chmod a+r OmicsLonDA -R && F:\biocbuild\bbs-3.17-bioc\R\bin\R.exe CMD build --keep-empty-dirs --no-resave-data OmicsLonDA StartedAt: 2023-10-15 20:58:11 -0400 (Sun, 15 Oct 2023) EndedAt: 2023-10-15 20:58:28 -0400 (Sun, 15 Oct 2023) EllapsedTime: 17.1 seconds RetCode: 1 Status: ERROR PackageFile: None PackageFileSize: NA