Package: OmicsLonDA Version: 1.16.0 Command: /home/biocbuild/bbs-3.17-bioc/R/bin/R CMD build --keep-empty-dirs --no-resave-data OmicsLonDA StartedAt: 2023-10-15 17:43:52 -0400 (Sun, 15 Oct 2023) EndedAt: 2023-10-15 17:44:16 -0400 (Sun, 15 Oct 2023) EllapsedTime: 24.6 seconds RetCode: 1 Status: ERROR PackageFile: None PackageFileSize: NA