Package: OmicsLonDA Version: 1.16.0 Command: /Library/Frameworks/R.framework/Resources/bin/R CMD build --keep-empty-dirs --no-resave-data OmicsLonDA StartedAt: 2023-10-15 19:59:31 -0400 (Sun, 15 Oct 2023) EndedAt: 2023-10-15 20:00:08 -0400 (Sun, 15 Oct 2023) EllapsedTime: 36.6 seconds RetCode: 1 Status: ERROR PackageFile: None PackageFileSize: NA