Package: OmicsLonDA Version: 1.15.0 Command: rm -rf OmicsLonDA.buildbin-libdir && mkdir OmicsLonDA.buildbin-libdir && /Users/biocbuild/BBS/utils/build-universal.sh OmicsLonDA_1.15.0.tar.gz /Library/Frameworks/R.framework/Resources/bin/R OmicsLonDA.buildbin-libdir StartedAt: 2023-03-28 09:42:52 -0400 (Tue, 28 Mar 2023) EndedAt: 2023-03-28 09:44:39 -0400 (Tue, 28 Mar 2023) EllapsedTime: 107.2 seconds RetCode: 0 Status: OK PackageFile: OmicsLonDA_1.15.0.tgz PackageFileSize: 4.9 MiB