Package: OmaDB Version: 2.16.0 Command: /home/biocbuild/bbs-3.17-bioc/R/bin/R CMD INSTALL OmaDB StartedAt: 2023-10-15 15:43:53 -0400 (Sun, 15 Oct 2023) EndedAt: 2023-10-15 15:44:09 -0400 (Sun, 15 Oct 2023) EllapsedTime: 16.6 seconds RetCode: 0 Status: OK